BEGIN:VCALENDAR
VERSION:2.0
PRODID:-//Library Market//iCal Export//EN
BEGIN:VEVENT
SUMMARY:Move &amp; Groove
UID:8509
DTSTAMP:20260420T131000Z
DTSTART:20260722T150000Z
DTEND:20260722T153000Z
LOCATION:109 South State St, Hampshire, IL 60140, United States
ROOM: Community Room
DESCRIPTION:
URL:https://ellajohnson.librarycalendar.com/event/move-groove-8509
END:VEVENT
END:VCALENDAR
