BEGIN:VCALENDAR
VERSION:2.0
PRODID:-//Library Market//iCal Export//EN
BEGIN:VEVENT
SUMMARY:Baby Boogie with Bubbles
UID:8503
DTSTAMP:20260420T202600Z
DTSTART:20260724T150000Z
DTEND:20260724T153000Z
LOCATION:109 South State St, Hampshire, IL 60140, United States
ROOM: Community Room
DESCRIPTION:
URL:https://ellajohnson.librarycalendar.com/event/baby-boogie-bubbles-8503
END:VEVENT
END:VCALENDAR
